BEGIN:VCALENDAR
VERSION:2.0
PRODID:-//Grace Chinese Baptist Church of Richmond, VA | 列治文华恩浸信会 - ECPv6.15.12.2//NONSGML v1.0//EN
CALSCALE:GREGORIAN
METHOD:PUBLISH
X-ORIGINAL-URL:https://www.gcbcr.org
X-WR-CALDESC:Events for Grace Chinese Baptist Church of Richmond, VA | 列治文华恩浸信会
REFRESH-INTERVAL;VALUE=DURATION:PT1H
X-Robots-Tag:noindex
X-PUBLISHED-TTL:PT1H
BEGIN:VTIMEZONE
TZID:UTC
BEGIN:STANDARD
TZOFFSETFROM:+0000
TZOFFSETTO:+0000
TZNAME:UTC
DTSTART:20160101T000000
END:STANDARD
END:VTIMEZONE
BEGIN:VEVENT
DTSTART;TZID=UTC:20170825T183000
DTEND;TZID=UTC:20170825T213000
DTSTAMP:20260419T130622
CREATED:20170823T204435Z
LAST-MODIFIED:20170823T204525Z
UID:2398-1503685800-1503696600@www.gcbcr.org
SUMMARY:Youth Group Potluck and Game Night
DESCRIPTION:Youth Group Potluck and Game Night at Pastor Carter’s house. Bring a friend!
URL:https://www.gcbcr.org/event/youth-group-potluck-and-game-night/
ATTACH;FMTTYPE=image/jpeg:https://www.gcbcr.org/wp-content/uploads/2017/08/YOuth-Group-Potluck-2017-web.jpg
END:VEVENT
END:VCALENDAR