BEGIN:VCALENDAR
VERSION:2.0
PRODID:-//Grace Chinese Baptist Church of Richmond, VA | 列治文华恩浸信会 - ECPv6.15.12.2//NONSGML v1.0//EN
CALSCALE:GREGORIAN
METHOD:PUBLISH
X-WR-CALNAME:Grace Chinese Baptist Church of Richmond, VA | 列治文华恩浸信会
X-ORIGINAL-URL:https://www.gcbcr.org
X-WR-CALDESC:Events for Grace Chinese Baptist Church of Richmond, VA | 列治文华恩浸信会
REFRESH-INTERVAL;VALUE=DURATION:PT1H
X-Robots-Tag:noindex
X-PUBLISHED-TTL:PT1H
BEGIN:VTIMEZONE
TZID:UTC
BEGIN:STANDARD
TZOFFSETFROM:+0000
TZOFFSETTO:+0000
TZNAME:UTC
DTSTART:20160101T000000
END:STANDARD
END:VTIMEZONE
BEGIN:VEVENT
DTSTART;TZID=UTC:20170609T080000
DTEND;TZID=UTC:20170609T170000
DTSTAMP:20260419T165927
CREATED:20170609T141451Z
LAST-MODIFIED:20170609T142411Z
UID:2329-1496995200-1497027600@www.gcbcr.org
SUMMARY:AWANA graduation
DESCRIPTION:
URL:https://www.gcbcr.org/event/awana-graduation/
ATTACH;FMTTYPE=image/jpeg:https://www.gcbcr.org/wp-content/uploads/2017/06/00001.jpg
END:VEVENT
BEGIN:VEVENT
DTSTART;TZID=UTC:20170624T180000
DTEND;TZID=UTC:20170624T220000
DTSTAMP:20260419T165927
CREATED:20170621T111858Z
LAST-MODIFIED:20170621T111858Z
UID:2369-1498327200-1498341600@www.gcbcr.org
SUMMARY:High School Graduation Party
DESCRIPTION:
URL:https://www.gcbcr.org/event/high-school-graduation-party/
ATTACH;FMTTYPE=image/jpeg:https://www.gcbcr.org/wp-content/uploads/2017/06/Senior-Banquet-2017.jpg
END:VEVENT
BEGIN:VEVENT
DTSTART;TZID=UTC:20170625T113000
DTEND;TZID=UTC:20170625T133000
DTSTAMP:20260419T165927
CREATED:20170621T111954Z
LAST-MODIFIED:20170621T112516Z
UID:2372-1498390200-1498397400@www.gcbcr.org
SUMMARY:Eat Lunch\, Fund Missions!
DESCRIPTION:
URL:https://www.gcbcr.org/event/2372/
ATTACH;FMTTYPE=image/jpeg:https://www.gcbcr.org/wp-content/uploads/2017/06/fund-raising-lunchen-6_25_2017.jpg
END:VEVENT
BEGIN:VEVENT
DTSTART;TZID=UTC:20170630T193000
DTEND;TZID=UTC:20170630T210000
DTSTAMP:20260419T165927
CREATED:20170621T112436Z
LAST-MODIFIED:20170621T112617Z
UID:2375-1498851000-1498856400@www.gcbcr.org
SUMMARY:Joint Youth Prayer and Praise Night
DESCRIPTION:
URL:https://www.gcbcr.org/event/joint-youth-prayer-and-praise-night/
ATTACH;FMTTYPE=image/jpeg:https://www.gcbcr.org/wp-content/uploads/2017/06/joint-worship-and-praise-6-30-2017.jpg
END:VEVENT
END:VCALENDAR