BEGIN:VCALENDAR
VERSION:2.0
PRODID:-//Grace Chinese Baptist Church of Richmond, VA | 列治文华恩浸信会 - ECPv6.15.12.2//NONSGML v1.0//EN
CALSCALE:GREGORIAN
METHOD:PUBLISH
X-ORIGINAL-URL:https://www.gcbcr.org
X-WR-CALDESC:Events for Grace Chinese Baptist Church of Richmond, VA | 列治文华恩浸信会
REFRESH-INTERVAL;VALUE=DURATION:PT1H
X-Robots-Tag:noindex
X-PUBLISHED-TTL:PT1H
BEGIN:VTIMEZONE
TZID:UTC
BEGIN:STANDARD
TZOFFSETFROM:+0000
TZOFFSETTO:+0000
TZNAME:UTC
DTSTART:20160101T000000
END:STANDARD
END:VTIMEZONE
BEGIN:VEVENT
DTSTART;TZID=UTC:20170305T080000
DTEND;TZID=UTC:20170409T170000
DTSTAMP:20260419T205737
CREATED:20170213T180458Z
LAST-MODIFIED:20170326T013845Z
UID:1492-1488700800-1491757200@www.gcbcr.org
SUMMARY:Easter Baptism Class
DESCRIPTION:If you have accepted Jesus as Lord and Savior but have not been baptized\, please consider signing up for the Easter Baptism Class. Contact Corinne Lee-Bennett or Vivian Chao Liu if you have questions.
URL:https://www.gcbcr.org/event/1492/
ATTACH;FMTTYPE=image/jpeg:https://www.gcbcr.org/wp-content/uploads/2017/02/Slide1.jpg
END:VEVENT
BEGIN:VEVENT
DTSTART;TZID=UTC:20170407T180000
DTEND;TZID=UTC:20170409T140000
DTSTAMP:20260419T205737
CREATED:20170228T214450Z
LAST-MODIFIED:20170331T135651Z
UID:1881-1491588000-1491746400@www.gcbcr.org
SUMMARY:Youth Spring Retreat
DESCRIPTION:Join us for Youth Spring Retreat at Williamsburg Christian Retreat Center (9275 Barnes Rd\, Toano\, VA 23168)
URL:https://www.gcbcr.org/event/youth-spring-retreat/
LOCATION:williamsburg christian retreat center
ATTACH;FMTTYPE=image/jpeg:https://www.gcbcr.org/wp-content/uploads/2017/02/Slide1-3.jpg
END:VEVENT
BEGIN:VEVENT
DTSTART;TZID=UTC:20170408T100000
DTEND;TZID=UTC:20170422T120000
DTSTAMP:20260419T205737
CREATED:20170407T145103Z
LAST-MODIFIED:20170407T145103Z
UID:1980-1491645600-1492862400@www.gcbcr.org
SUMMARY:Health Seminar
DESCRIPTION:
URL:https://www.gcbcr.org/event/health-seminar/
ATTACH;FMTTYPE=image/jpeg:https://www.gcbcr.org/wp-content/uploads/2017/04/mmexport1491576563597.jpg
END:VEVENT
BEGIN:VEVENT
DTSTART;TZID=UTC:20170423T093000
DTEND;TZID=UTC:20170423T120000
DTSTAMP:20260419T205737
CREATED:20170407T144359Z
LAST-MODIFIED:20170407T144359Z
UID:1977-1492939800-1492948800@www.gcbcr.org
SUMMARY:Gospel Music Testimony
DESCRIPTION:
URL:https://www.gcbcr.org/event/gospel-music-testimony/
ATTACH;FMTTYPE=image/jpeg:https://www.gcbcr.org/wp-content/uploads/2017/04/mmexport1491576173126.jpg
END:VEVENT
END:VCALENDAR